BEGIN:VCALENDAR
VERSION:2.0
PRODID:http://www.egotec.com/
METHOD:PUBLISH
BEGIN:VTIMEZONE
X-LIC-LOCATION:Europe/Berlin
TZID:Europe/Berlin
END:VTIMEZONE
BEGIN:VEVENT
CREATED:20260319T123130Z
SUMMARY:2nd Ulm Symposium on Solar-Driven Chemistry
DTSTART:20260613T100000Z
DTEND:20260617T100000Z
LOCATION:Albert-Einstein-Allee, Ulm
DESCRIPTION:2nd Ulm Symposium on Solar-Driven Chemistry\n\nSOLCHEM2026 wants again to gather and connect the world-leading experts in (solar) light-driven chemistry.\n\nhttps://www.catalight.uni-jena.de/1441/solchem2026
END:VEVENT
END:VCALENDAR
